BEGIN:VCALENDAR
VERSION:2.0
PRODID:-//One Montgomery Green - ECPv6.15.20//NONSGML v1.0//EN
CALSCALE:GREGORIAN
METHOD:PUBLISH
X-ORIGINAL-URL:https://onemontgomerygreen.org
X-WR-CALDESC:Events for One Montgomery Green
REFRESH-INTERVAL;VALUE=DURATION:PT1H
X-Robots-Tag:noindex
X-PUBLISHED-TTL:PT1H
BEGIN:VTIMEZONE
TZID:America/New_York
BEGIN:DAYLIGHT
TZOFFSETFROM:-0500
TZOFFSETTO:-0400
TZNAME:EDT
DTSTART:20240310T070000
END:DAYLIGHT
BEGIN:STANDARD
TZOFFSETFROM:-0400
TZOFFSETTO:-0500
TZNAME:EST
DTSTART:20241103T060000
END:STANDARD
BEGIN:DAYLIGHT
TZOFFSETFROM:-0500
TZOFFSETTO:-0400
TZNAME:EDT
DTSTART:20250309T070000
END:DAYLIGHT
BEGIN:STANDARD
TZOFFSETFROM:-0400
TZOFFSETTO:-0500
TZNAME:EST
DTSTART:20251102T060000
END:STANDARD
BEGIN:DAYLIGHT
TZOFFSETFROM:-0500
TZOFFSETTO:-0400
TZNAME:EDT
DTSTART:20260308T070000
END:DAYLIGHT
BEGIN:STANDARD
TZOFFSETFROM:-0400
TZOFFSETTO:-0500
TZNAME:EST
DTSTART:20261101T060000
END:STANDARD
END:VTIMEZONE
BEGIN:VEVENT
DTSTART;TZID=America/New_York:20251023T083000
DTEND;TZID=America/New_York:20251023T180000
DTSTAMP:20260425T140732
CREATED:20250925T203108Z
LAST-MODIFIED:20250925T203206Z
UID:12515-1761208200-1761242400@onemontgomerygreen.org
SUMMARY:2025 Clean Energy & Transportation Annual Conference\, Expo\, Awards Luncheon
DESCRIPTION:2025 Clean Energy & Transportation Annual Conference\, Expo\, Awards Luncheon \nFor more information: https://gwrccc.org/event/2025-annual-conference-expo-awards-luncheon/ \n 
URL:https://onemontgomerygreen.org/index.php/calendarevent/2025-clean-energy-transportation-annual-conference-expo-awards-luncheon/
LOCATION:Martin’s Crosswinds\, 7400 Greenway Center Dr\, Greenbelt\, MD\, 20770\, United States
CATEGORIES:Award Presentation,Awards,Conference,expo
ATTACH;FMTTYPE=image/jpeg:https://onemontgomerygreen.org/wp-content/uploads/2025/09/https___cdn.evbuc_.com_images_1087902933_765129867323_1_original.jpg
END:VEVENT
END:VCALENDAR