BEGIN:VCALENDAR
VERSION:2.0
PRODID:-//One Montgomery Green - ECPv6.15.20//NONSGML v1.0//EN
CALSCALE:GREGORIAN
METHOD:PUBLISH
X-ORIGINAL-URL:https://onemontgomerygreen.org
X-WR-CALDESC:Events for One Montgomery Green
REFRESH-INTERVAL;VALUE=DURATION:PT1H
X-Robots-Tag:noindex
X-PUBLISHED-TTL:PT1H
BEGIN:VTIMEZONE
TZID:America/New_York
BEGIN:DAYLIGHT
TZOFFSETFROM:-0500
TZOFFSETTO:-0400
TZNAME:EDT
DTSTART:20240310T070000
END:DAYLIGHT
BEGIN:STANDARD
TZOFFSETFROM:-0400
TZOFFSETTO:-0500
TZNAME:EST
DTSTART:20241103T060000
END:STANDARD
BEGIN:DAYLIGHT
TZOFFSETFROM:-0500
TZOFFSETTO:-0400
TZNAME:EDT
DTSTART:20250309T070000
END:DAYLIGHT
BEGIN:STANDARD
TZOFFSETFROM:-0400
TZOFFSETTO:-0500
TZNAME:EST
DTSTART:20251102T060000
END:STANDARD
BEGIN:DAYLIGHT
TZOFFSETFROM:-0500
TZOFFSETTO:-0400
TZNAME:EDT
DTSTART:20260308T070000
END:DAYLIGHT
BEGIN:STANDARD
TZOFFSETFROM:-0400
TZOFFSETTO:-0500
TZNAME:EST
DTSTART:20261101T060000
END:STANDARD
END:VTIMEZONE
BEGIN:VEVENT
DTSTART;TZID=America/New_York:20251107T180000
DTEND;TZID=America/New_York:20251107T203000
DTSTAMP:20260419T081224
CREATED:20251103T215452Z
LAST-MODIFIED:20251103T215452Z
UID:12569-1762538400-1762547400@onemontgomerygreen.org
SUMMARY:2025 Conservation Montgomery Annual Meeting
DESCRIPTION:2025 Conservation Montgomery Annual Meeting \nWhen: Friday\, November 7th\, from 6 pm to 8:30 pm \nWhere: The Writer’s Center\, 3508 Walsh Street\, Bethesda. Public parking is available across the street. \n  \n\n\n\n\n\n\n\n\n\n\n\n\n\n\n\n\nAutumn is in the air \nTime to register for the 2025 Conservation Montgomery Annual Meeting \nCome help us celebrate another year of conservation in Montgomery County. We will bestow the Joe Howard Environmental Award upon two youth groups\, the Eco Moco nonprofit and the Latin American Youth Center Conservation Corps. Our guest speaker this year is Maryland State Delegate Marc Korman\, (District 16) pictured at left. Delegate Korman will provide an overview of state environmental legislation. In 2023\, he was named chair of the Environment & Transportation Committee\, one of just six standing committees in the House. \nAs always\, we will begin with a networking reception at 6 pm\, with a buffet and beverages. We suggest a minimum $20 per person donation to defray the cost of refreshments. You can pay at the door or online by visiting ConservationMontgomery.org. \nPlease RSVP to help us plan. We look forward to seeing you on Nov. 7th.
URL:https://onemontgomerygreen.org/index.php/calendarevent/2025-conservation-montgomery-annual-meeting/
LOCATION:The Writers Center\, 4508 Walsh Street\, Bethesda\, MD\, 20815\, United States
CATEGORIES:annual meeting
ATTACH;FMTTYPE=image/png:https://onemontgomerygreen.org/wp-content/uploads/2025/11/ConservationMontgomery_Logo.png
ORGANIZER;CN="Conservation Montgomery":MAILTO:ConservationMontgomery@live.com
END:VEVENT
END:VCALENDAR