BEGIN:VCALENDAR
VERSION:2.0
PRODID:-//One Montgomery Green - ECPv6.15.20//NONSGML v1.0//EN
CALSCALE:GREGORIAN
METHOD:PUBLISH
X-ORIGINAL-URL:https://onemontgomerygreen.org
X-WR-CALDESC:Events for One Montgomery Green
REFRESH-INTERVAL;VALUE=DURATION:PT1H
X-Robots-Tag:noindex
X-PUBLISHED-TTL:PT1H
BEGIN:VTIMEZONE
TZID:America/New_York
BEGIN:DAYLIGHT
TZOFFSETFROM:-0500
TZOFFSETTO:-0400
TZNAME:EDT
DTSTART:20240310T070000
END:DAYLIGHT
BEGIN:STANDARD
TZOFFSETFROM:-0400
TZOFFSETTO:-0500
TZNAME:EST
DTSTART:20241103T060000
END:STANDARD
BEGIN:DAYLIGHT
TZOFFSETFROM:-0500
TZOFFSETTO:-0400
TZNAME:EDT
DTSTART:20250309T070000
END:DAYLIGHT
BEGIN:STANDARD
TZOFFSETFROM:-0400
TZOFFSETTO:-0500
TZNAME:EST
DTSTART:20251102T060000
END:STANDARD
BEGIN:DAYLIGHT
TZOFFSETFROM:-0500
TZOFFSETTO:-0400
TZNAME:EDT
DTSTART:20260308T070000
END:DAYLIGHT
BEGIN:STANDARD
TZOFFSETFROM:-0400
TZOFFSETTO:-0500
TZNAME:EST
DTSTART:20261101T060000
END:STANDARD
END:VTIMEZONE
BEGIN:VEVENT
DTSTART;TZID=America/New_York:20251204T193000
DTEND;TZID=America/New_York:20251204T203000
DTSTAMP:20260420T142045
CREATED:20251113T220428Z
LAST-MODIFIED:20251113T220534Z
UID:12602-1764876600-1764880200@onemontgomerygreen.org
SUMMARY:The Climate Mobilization Webinar: Data Center in MoCo
DESCRIPTION:The Climate Mobilization Webinar  \n Thursday\, Dec 4\, 7:30 – 8:30 pm \nDid You Know A Data Center is Planned for MoCo? \nJoin Us to Find Out More!  \n  \n \nPlease join The Climate Mobilization on Dec 4 at 7:30–8:30 pm to discuss the Data Center being planned for Dickerson\, MD. There is much controversy around the locating of Data Centers. Find out about its impact on our County and how you can have your opinion heard on this development. \nCaroline Taylor from the Montgomery Countryside Alliance will discuss \n●  What are Data Centers\n●  What is the status of the development in MoCo\n●  What are the potential benefits and drawbacks for residents\n●  How will the County decide about moving forward \nThis will be followed by a discussion of how you can get involved by sharing your opinion with the County and your Councilmembers as the review process moves forward. \nHere is registration link for the meeting: \nCLICK TO REGISTER
URL:https://onemontgomerygreen.org/index.php/calendarevent/12602/
CATEGORIES:webinar
ATTACH;FMTTYPE=image/png:https://onemontgomerygreen.org/wp-content/uploads/2019/05/TheClimateMobilization-e1599076702591.png
ORGANIZER;CN="The Climate Mobilization of Montgomery County%2C MD":MAILTO:jimwdriscoll@yahoo.com
END:VEVENT
END:VCALENDAR