BEGIN:VCALENDAR
VERSION:2.0
PRODID:-//One Montgomery Green - ECPv6.15.20//NONSGML v1.0//EN
CALSCALE:GREGORIAN
METHOD:PUBLISH
X-ORIGINAL-URL:https://onemontgomerygreen.org
X-WR-CALDESC:Events for One Montgomery Green
REFRESH-INTERVAL;VALUE=DURATION:PT1H
X-Robots-Tag:noindex
X-PUBLISHED-TTL:PT1H
BEGIN:VTIMEZONE
TZID:America/New_York
BEGIN:DAYLIGHT
TZOFFSETFROM:-0500
TZOFFSETTO:-0400
TZNAME:EDT
DTSTART:20230312T070000
END:DAYLIGHT
BEGIN:STANDARD
TZOFFSETFROM:-0400
TZOFFSETTO:-0500
TZNAME:EST
DTSTART:20231105T060000
END:STANDARD
BEGIN:DAYLIGHT
TZOFFSETFROM:-0500
TZOFFSETTO:-0400
TZNAME:EDT
DTSTART:20240310T070000
END:DAYLIGHT
BEGIN:STANDARD
TZOFFSETFROM:-0400
TZOFFSETTO:-0500
TZNAME:EST
DTSTART:20241103T060000
END:STANDARD
BEGIN:DAYLIGHT
TZOFFSETFROM:-0500
TZOFFSETTO:-0400
TZNAME:EDT
DTSTART:20250309T070000
END:DAYLIGHT
BEGIN:STANDARD
TZOFFSETFROM:-0400
TZOFFSETTO:-0500
TZNAME:EST
DTSTART:20251102T060000
END:STANDARD
END:VTIMEZONE
BEGIN:VEVENT
DTSTART;VALUE=DATE:20240415
DTEND;VALUE=DATE:20240417
DTSTAMP:20260422T031624
CREATED:20240126T182356Z
LAST-MODIFIED:20240126T182356Z
UID:10795-1713139200-1713311999@onemontgomerygreen.org
SUMMARY:Montgomery County Energy Summit 2024
DESCRIPTION:Montgomery County Energy Summit 2024\nApril 15-16\nSilver Spring Civic Building at Veterans Plaza\, Silver Spring\, MD 20910\nNow in its 11th year\, the annual Montgomery County Energy Summit has offered cutting-edge education focused on the latest trends in green building\, energy efficiency\, renewable energy\, and related commercial\, multifamily\, and residential topics in Montgomery County. \n \nOur target audience includes building owners\, property managers\, developers\, energy contractors\, and other sustainability professionals working in Montgomery County and the larger DMV area. This event typically attracts 300+ attendees\, speakers\, and exhibitors. \nMontgomery County DEP would like to thank the US Green Building Council National Capital Region for their years of partnership in making this event a success. \nThe 2024 Energy Summit will take place at the metro-accessible Silver Spring Civic Building in downtown Silver Spring\, MD. \nMontgomery County continues to adopt policies and programs that move the building sector to an energy efficient\, low-carbon future in line with the County’s climate action goals. Such policies require additional buildings and types to benchmark and report energy use data each year\, set a framework for building energy performance standards that require most existing buildings to become more energy efficient over time\, require all-electric new construction\, and continue to adopt progressive building codes. \nThis year’s Summit will focus on preparing the commercial building community for compliance with energy benchmarking\, building energy performance standards\, and emerging building codes. We will explore requirements and opportunities in these areas and provide hands-on learning opportunities as well as case studies from commercial and multifamily buildings. The Summit will provide education sessions\, hands-on Q&A and support\, an “innovation alley” showcasing products and services\, and a networking reception. \nFor more information\, visit https://mcenergysummit.org/
URL:https://onemontgomerygreen.org/index.php/calendarevent/montgomery-county-energy-summit-2024/
LOCATION:Silver Spring Civic Building at Veterans Plaza\, 1 Veterans Plaza\, Silver Spring\, MD\, 20910\, United States
CATEGORIES:1OMG,Energy Summit
ATTACH;FMTTYPE=image/png:https://onemontgomerygreen.org/wp-content/uploads/2024/01/MoCo-EnergySummit2024.png
END:VEVENT
END:VCALENDAR