BEGIN:VCALENDAR
VERSION:2.0
PRODID:-//One Montgomery Green - ECPv6.15.20//NONSGML v1.0//EN
CALSCALE:GREGORIAN
METHOD:PUBLISH
X-WR-CALNAME:One Montgomery Green
X-ORIGINAL-URL:https://onemontgomerygreen.org
X-WR-CALDESC:Events for One Montgomery Green
REFRESH-INTERVAL;VALUE=DURATION:PT1H
X-Robots-Tag:noindex
X-PUBLISHED-TTL:PT1H
BEGIN:VTIMEZONE
TZID:America/New_York
BEGIN:DAYLIGHT
TZOFFSETFROM:-0500
TZOFFSETTO:-0400
TZNAME:EDT
DTSTART:20240310T070000
END:DAYLIGHT
BEGIN:STANDARD
TZOFFSETFROM:-0400
TZOFFSETTO:-0500
TZNAME:EST
DTSTART:20241103T060000
END:STANDARD
BEGIN:DAYLIGHT
TZOFFSETFROM:-0500
TZOFFSETTO:-0400
TZNAME:EDT
DTSTART:20250309T070000
END:DAYLIGHT
BEGIN:STANDARD
TZOFFSETFROM:-0400
TZOFFSETTO:-0500
TZNAME:EST
DTSTART:20251102T060000
END:STANDARD
BEGIN:DAYLIGHT
TZOFFSETFROM:-0500
TZOFFSETTO:-0400
TZNAME:EDT
DTSTART:20260308T070000
END:DAYLIGHT
BEGIN:STANDARD
TZOFFSETFROM:-0400
TZOFFSETTO:-0500
TZNAME:EST
DTSTART:20261101T060000
END:STANDARD
END:VTIMEZONE
BEGIN:VEVENT
DTSTART;TZID=America/New_York:20250617T100000
DTEND;TZID=America/New_York:20250617T140000
DTSTAMP:20260423T092055
CREATED:20250508T222830Z
LAST-MODIFIED:20250512T224438Z
UID:12053-1750154400-1750168800@onemontgomerygreen.org
SUMMARY:Environmental Justice Summit 2025
DESCRIPTION:Environmental Justice Summit 2025\nThis forum will break down historical racial disparities in transportation\, energy\, and the environment. \nhttps://www.eventbrite.com/e/environmental-justice-summit-2025-tickets-1261234439159
URL:https://onemontgomerygreen.org/index.php/calendarevent/environmental-justice-summit-2025/
LOCATION:Howard University\, Armour J. Blackburn Auditorium\, 2397 6th Street Southwest\, Washington\, DC\, 20024\, United States
CATEGORIES:Summit
ATTACH;FMTTYPE=image/png:https://onemontgomerygreen.org/wp-content/uploads/2025/05/Screen-Shot-2025-05-08-at-6.23.20-PM.png
END:VEVENT
END:VCALENDAR