BEGIN:VCALENDAR
VERSION:2.0
PRODID:-//One Montgomery Green - ECPv6.15.20//NONSGML v1.0//EN
CALSCALE:GREGORIAN
METHOD:PUBLISH
X-ORIGINAL-URL:https://onemontgomerygreen.org
X-WR-CALDESC:Events for One Montgomery Green
REFRESH-INTERVAL;VALUE=DURATION:PT1H
X-Robots-Tag:noindex
X-PUBLISHED-TTL:PT1H
BEGIN:VTIMEZONE
TZID:America/New_York
BEGIN:DAYLIGHT
TZOFFSETFROM:-0500
TZOFFSETTO:-0400
TZNAME:EDT
DTSTART:20240310T070000
END:DAYLIGHT
BEGIN:STANDARD
TZOFFSETFROM:-0400
TZOFFSETTO:-0500
TZNAME:EST
DTSTART:20241103T060000
END:STANDARD
BEGIN:DAYLIGHT
TZOFFSETFROM:-0500
TZOFFSETTO:-0400
TZNAME:EDT
DTSTART:20250309T070000
END:DAYLIGHT
BEGIN:STANDARD
TZOFFSETFROM:-0400
TZOFFSETTO:-0500
TZNAME:EST
DTSTART:20251102T060000
END:STANDARD
BEGIN:DAYLIGHT
TZOFFSETFROM:-0500
TZOFFSETTO:-0400
TZNAME:EDT
DTSTART:20260308T070000
END:DAYLIGHT
BEGIN:STANDARD
TZOFFSETFROM:-0400
TZOFFSETTO:-0500
TZNAME:EST
DTSTART:20261101T060000
END:STANDARD
END:VTIMEZONE
BEGIN:VEVENT
DTSTART;TZID=America/New_York:20251203T180000
DTEND;TZID=America/New_York:20251203T200000
DTSTAMP:20260421T165012
CREATED:20251113T222335Z
LAST-MODIFIED:20251113T222335Z
UID:12605-1764784800-1764792000@onemontgomerygreen.org
SUMMARY:Save the Farm\, Save the Future: Film Screening & Panel Discussion
DESCRIPTION:Save the Farm\, Save the Future \nFilm Screening & Panel Discussion \n📍 Location: Agricultural History Farm Park\n🕕 Doors Open: Wednesday\, December 3 • 6:00 PM (Enjoy 30 minutes of mingling!)\n🎥 Film Starts: 6:30 PM \nJoin us for a special screening of Save the Farm\, Save the Future\, an inspiring new documentary that explores how we can protect our agricultural heritage and environment for generations to come. The film highlights the challenges facing today’s farmers and introduces innovative solutions — like agrivoltaics\, where solar energy and farming work together to create a more sustainable future. \nAfter the screening\, stay for a 30-minute panel discussion featuring leaders in agriculture\, energy\, and sustainability: \n\nPanel Moderator: Dave Feldman\, Executive Director\, Bethesda Green\nDr. Jennifer Morash\, Chief Agrivoltaics Officer\, Good Idea Solar\nMike Scheffel\, Director\, Montgomery County Office of Agricultural Services\nAmanda Cather\, Mid-Atlantic Deputy Director\, American Farmland Trust\nDr. Mitchell Pavao-Zuckerman\, Associate Professor\, UMD College Park\nAlex Vermoer\, Senior Manager\, Pepco\n\nCome be part of the conversation about how farms — and farmers — can help shape a brighter\, more resilient future. 🌾 \nRegister for this event HERE
URL:https://onemontgomerygreen.org/index.php/calendarevent/save-the-farm-save-the-future-film-screening-panel-discussion/
LOCATION:Agricultural History Farm Park\, 18400 Muncaster Road\, Derwood\, MD\, 20855\, United States
CATEGORIES:Agriculture,discussion,documentary showing,film screening
ATTACH;FMTTYPE=image/png:https://onemontgomerygreen.org/wp-content/uploads/2025/11/690baf84-0d4e-9af1-ea69-867052a31035-e1763072334770.png
ORGANIZER;CN="Bethesda Green":MAILTO:info@bethesdagreen.org
END:VEVENT
END:VCALENDAR