BEGIN:VCALENDAR
VERSION:2.0
PRODID:-//One Montgomery Green - ECPv6.15.20//NONSGML v1.0//EN
CALSCALE:GREGORIAN
METHOD:PUBLISH
X-WR-CALNAME:One Montgomery Green
X-ORIGINAL-URL:https://onemontgomerygreen.org
X-WR-CALDESC:Events for One Montgomery Green
REFRESH-INTERVAL;VALUE=DURATION:PT1H
X-Robots-Tag:noindex
X-PUBLISHED-TTL:PT1H
BEGIN:VTIMEZONE
TZID:America/New_York
BEGIN:DAYLIGHT
TZOFFSETFROM:-0500
TZOFFSETTO:-0400
TZNAME:EDT
DTSTART:20250309T070000
END:DAYLIGHT
BEGIN:STANDARD
TZOFFSETFROM:-0400
TZOFFSETTO:-0500
TZNAME:EST
DTSTART:20251102T060000
END:STANDARD
BEGIN:DAYLIGHT
TZOFFSETFROM:-0500
TZOFFSETTO:-0400
TZNAME:EDT
DTSTART:20260308T070000
END:DAYLIGHT
BEGIN:STANDARD
TZOFFSETFROM:-0400
TZOFFSETTO:-0500
TZNAME:EST
DTSTART:20261101T060000
END:STANDARD
BEGIN:DAYLIGHT
TZOFFSETFROM:-0500
TZOFFSETTO:-0400
TZNAME:EDT
DTSTART:20270314T070000
END:DAYLIGHT
BEGIN:STANDARD
TZOFFSETFROM:-0400
TZOFFSETTO:-0500
TZNAME:EST
DTSTART:20271107T060000
END:STANDARD
END:VTIMEZONE
BEGIN:VEVENT
DTSTART;TZID=America/New_York:20260213T090000
DTEND;TZID=America/New_York:20260213T160000
DTSTAMP:20260423T190243
CREATED:20260115T194647Z
LAST-MODIFIED:20260115T203042Z
UID:12682-1770973200-1770998400@onemontgomerygreen.org
SUMMARY:GreenScapes Symposium on Sustainable Landscaping
DESCRIPTION:GreenScapes Symposium on Sustainable Landscaping: Integrating Ecology\, Beauty and Adaptability in Design\nFriday\, February 13  • 9 am – 4 pm  \n*Live Zoom Event \n \nMontgomery Parks is hosting GreenScapes\, a one-day virtual symposium on sustainable landscaping from 9 a.m. to 4 p.m. on Friday\, February 13. The event will feature live sessions with experts in horticulture\, ecology\, and design to share strategies for creating sustainable and attractive landscapes. Continuing education credits are available from 14 professional organizations. For more details and to register\, visit the event website. \nhttps://montgomeryparks.org/parks-and-trails/brookside-gardens/special-events/greenscapes/ \n*This will be offered as a series of live online lectures using Zoom with audience Q&A incorporated into the program. Each session will be recorded and a link to watch the symposium will be emailed to all participants. Professional development credit hours will be available for each session.
URL:https://onemontgomerygreen.org/index.php/calendarevent/greenscapes-symposium-on-sustainable-landscaping/
LOCATION:MD
CATEGORIES:symposium
ATTACH;FMTTYPE=image/jpeg:https://onemontgomerygreen.org/wp-content/uploads/2020/07/MontgomeryParks_400x400.jpeg
END:VEVENT
END:VCALENDAR