BEGIN:VCALENDAR
VERSION:2.0
PRODID:-//One Montgomery Green - ECPv6.15.20//NONSGML v1.0//EN
CALSCALE:GREGORIAN
METHOD:PUBLISH
X-ORIGINAL-URL:https://onemontgomerygreen.org
X-WR-CALDESC:Events for One Montgomery Green
REFRESH-INTERVAL;VALUE=DURATION:PT1H
X-Robots-Tag:noindex
X-PUBLISHED-TTL:PT1H
BEGIN:VTIMEZONE
TZID:America/New_York
BEGIN:DAYLIGHT
TZOFFSETFROM:-0500
TZOFFSETTO:-0400
TZNAME:EDT
DTSTART:20240310T070000
END:DAYLIGHT
BEGIN:STANDARD
TZOFFSETFROM:-0400
TZOFFSETTO:-0500
TZNAME:EST
DTSTART:20241103T060000
END:STANDARD
BEGIN:DAYLIGHT
TZOFFSETFROM:-0500
TZOFFSETTO:-0400
TZNAME:EDT
DTSTART:20250309T070000
END:DAYLIGHT
BEGIN:STANDARD
TZOFFSETFROM:-0400
TZOFFSETTO:-0500
TZNAME:EST
DTSTART:20251102T060000
END:STANDARD
BEGIN:DAYLIGHT
TZOFFSETFROM:-0500
TZOFFSETTO:-0400
TZNAME:EDT
DTSTART:20260308T070000
END:DAYLIGHT
BEGIN:STANDARD
TZOFFSETFROM:-0400
TZOFFSETTO:-0500
TZNAME:EST
DTSTART:20261101T060000
END:STANDARD
END:VTIMEZONE
BEGIN:VEVENT
DTSTART;TZID=America/New_York:20250601T110000
DTEND;TZID=America/New_York:20250601T170000
DTSTAMP:20260419T213219
CREATED:20250512T230111Z
LAST-MODIFIED:20250513T182212Z
UID:12063-1748775600-1748797200@onemontgomerygreen.org
SUMMARY:Taste of Wheaton
DESCRIPTION:Come get a “taste” for all Wheaton has to offer\, from delicious food from diverse ethnic restaurants\, live entertainment and dance from local performers\, and arts and crafts from local artisans. Our signature  event\, attracting thousands of attendees to downtown Wheaton\, MD is scheduled for Sunday\, June 1\, from 11am to 5pm at Marian Fryer Town Plaza in downtown Wheaton (2424 Reedie Drive\, Wheaton\, MD 20902). The event will take place rain or shine. \nSTOP BY ONE MONTGOMERY GREEN TABLE! \nWheels in Wheaton! Visit Montgomery Planning’s pop-up roller-skating rink at the Taste of Wheaton in partnership with the Wheaton Urban District. Find out more information on this placemaking initiative HERE \nTo apply as a restaurant/food vendor click HERE\nPara aplicar como vendedor de restaurante/comida haga clic AQUI \nTo apply as a craft vendor\, business or nonprofit exhibitor click HERE \nPara aplicar como vendedor de artesanías\, expositor comercial o sin fines de lucro\, haga clic AQUI \nMore information coming soon! Stay updated on the latest event news by following us on social media: Instagram @Wheaton_MD and Facebook @WheatonMD. \nFor general information about the event contact\nSidney Cooper at sidney.cooper@montgomerycountymd.gov. \nFor more information\, visit https://www.wheatonmd.org/do/taste-of-wheaton-2025.
URL:https://onemontgomerygreen.org/index.php/calendarevent/taste-of-wheaton-4/
LOCATION:Marian Fryer Town Plaza\, 2424 Reedie Drive\, Wheaton\, MD\, 20902\, United States
CATEGORIES:1OMG,festival,Taste of Wheaton
ATTACH;FMTTYPE=image/png:https://onemontgomerygreen.org/wp-content/uploads/2025/05/Screen-Shot-2025-05-12-at-6.47.16-PM.png
END:VEVENT
END:VCALENDAR