BEGIN:VCALENDAR
VERSION:2.0
PRODID:-//One Montgomery Green - ECPv6.15.20//NONSGML v1.0//EN
CALSCALE:GREGORIAN
METHOD:PUBLISH
X-WR-CALNAME:One Montgomery Green
X-ORIGINAL-URL:https://onemontgomerygreen.org
X-WR-CALDESC:Events for One Montgomery Green
REFRESH-INTERVAL;VALUE=DURATION:PT1H
X-Robots-Tag:noindex
X-PUBLISHED-TTL:PT1H
BEGIN:VTIMEZONE
TZID:America/New_York
BEGIN:DAYLIGHT
TZOFFSETFROM:-0500
TZOFFSETTO:-0400
TZNAME:EDT
DTSTART:20230312T070000
END:DAYLIGHT
BEGIN:STANDARD
TZOFFSETFROM:-0400
TZOFFSETTO:-0500
TZNAME:EST
DTSTART:20231105T060000
END:STANDARD
BEGIN:DAYLIGHT
TZOFFSETFROM:-0500
TZOFFSETTO:-0400
TZNAME:EDT
DTSTART:20240310T070000
END:DAYLIGHT
BEGIN:STANDARD
TZOFFSETFROM:-0400
TZOFFSETTO:-0500
TZNAME:EST
DTSTART:20241103T060000
END:STANDARD
BEGIN:DAYLIGHT
TZOFFSETFROM:-0500
TZOFFSETTO:-0400
TZNAME:EDT
DTSTART:20250309T070000
END:DAYLIGHT
BEGIN:STANDARD
TZOFFSETFROM:-0400
TZOFFSETTO:-0500
TZNAME:EST
DTSTART:20251102T060000
END:STANDARD
END:VTIMEZONE
BEGIN:VEVENT
DTSTART;TZID=America/New_York:20240720T070000
DTEND;TZID=America/New_York:20240720T100000
DTSTAMP:20260421T123243
CREATED:20240608T192345Z
LAST-MODIFIED:20240608T192423Z
UID:11160-1721458800-1721469600@onemontgomerygreen.org
SUMMARY:Muddy Branch Alliance Photography Workshop
DESCRIPTION:Join us for a Muddy Branch Alliance Photography Workshop\nJoin us for a short walk with award-winning wildlife photographer Ben Salb as he demonstrates his processes to locate\, photograph\, and identify insects and spiders along the Muddy Branch Trail. Attendees can be of all photographic skill levels\, and no photographic equipment is required. Being out in nature and noticing/appreciating invertebrate wildlife is the primary goal. This event is FREE. \nLocation (Tentative)\nQuince Orchard Road Trailhead (Potomac Horse Center)\n14211 Quince Orchard Rd\, Gaithersburg\, MD 20878 \nDate / Time\nSaturday July 20\, 7 a.m.-10 a.m. \nAccessibility\nParking is available at the Horse Center. The terrain is mostly dirt path\, which may be muddy and challenging depending on previous weather.  Please consider footwear/pants that don’t mind a little dirt or mud. \nThere are no public restrooms or water fountains available\, so please plan ahead.  \nLight rain will be no issue unless the path is saturated. Torrential rain or thunder/lightning will result in the event being rescheduled. \nRSVP Here \nAbout your workshop leader\nBen Salb is a professional macro photographer and OM System (formerly Olympus) Ambassador currently living in Gaithersburg\, MD. An IT professional during the day\, he can often be found wandering the Muddy Branch Trail looking for insects and spiders as early as 3:30 a.m. Over the past couple years he’s had a handful of images taken along Muddy Branch win or place in international photography competitions. Most notably\, his image of a wolf spider mom with babies (shown below) received a category win in The Nature Conservancy’s global photo contest in 2023\, a competition with over 80\,000 photographers and 190\,000 entries. Ben is considered an expert in living subject macro photography and focus bracketing/stacking.   \nFind out more here: https://muddybranch.org/buggin/ \n 
URL:https://onemontgomerygreen.org/index.php/calendarevent/muddy-branch-alliance-photography-workshop/
LOCATION:Potomac Horse Center (Quince Orchard Trailhead)\, 14211 Quince Orchard Rd\, Gaithersburg\, MD\, United States
CATEGORIES:nature hike,workshop
ATTACH;FMTTYPE=image/jpeg:https://onemontgomerygreen.org/wp-content/uploads/2020/02/cef5bab9-f6d5-47f1-8f7b-b25ce4b2883b.jpg
ORGANIZER;CN="Muddy Branch Alliance":MAILTO:muddybranchalliance@gmail.com
END:VEVENT
END:VCALENDAR