BEGIN:VCALENDAR
VERSION:2.0
PRODID:-//One Montgomery Green - ECPv6.15.20//NONSGML v1.0//EN
CALSCALE:GREGORIAN
METHOD:PUBLISH
X-WR-CALNAME:One Montgomery Green
X-ORIGINAL-URL:https://onemontgomerygreen.org
X-WR-CALDESC:Events for One Montgomery Green
REFRESH-INTERVAL;VALUE=DURATION:PT1H
X-Robots-Tag:noindex
X-PUBLISHED-TTL:PT1H
BEGIN:VTIMEZONE
TZID:America/New_York
BEGIN:DAYLIGHT
TZOFFSETFROM:-0500
TZOFFSETTO:-0400
TZNAME:EDT
DTSTART:20250309T070000
END:DAYLIGHT
BEGIN:STANDARD
TZOFFSETFROM:-0400
TZOFFSETTO:-0500
TZNAME:EST
DTSTART:20251102T060000
END:STANDARD
BEGIN:DAYLIGHT
TZOFFSETFROM:-0500
TZOFFSETTO:-0400
TZNAME:EDT
DTSTART:20260308T070000
END:DAYLIGHT
BEGIN:STANDARD
TZOFFSETFROM:-0400
TZOFFSETTO:-0500
TZNAME:EST
DTSTART:20261101T060000
END:STANDARD
BEGIN:DAYLIGHT
TZOFFSETFROM:-0500
TZOFFSETTO:-0400
TZNAME:EDT
DTSTART:20270314T070000
END:DAYLIGHT
BEGIN:STANDARD
TZOFFSETFROM:-0400
TZOFFSETTO:-0500
TZNAME:EST
DTSTART:20271107T060000
END:STANDARD
END:VTIMEZONE
BEGIN:VEVENT
DTSTART;TZID=America/New_York:20260110T100000
DTEND;TZID=America/New_York:20260110T120000
DTSTAMP:20260421T232706
CREATED:20251128T165620Z
LAST-MODIFIED:20251128T165620Z
UID:12630-1768039200-1768046400@onemontgomerygreen.org
SUMMARY:Weed Warriors & Litter Pickup
DESCRIPTION:Join us Saturday 1/10 for Weed Warriors and Litter Pickup!\nWe’ll meet at Malcolm King Park to remove invasive plants and learn about the native plants that are found there. Under the guidance of experienced Weed Warriors\, we’ll pull out plants like multiflora rose\, porcelain berry\, and oriental bittersweet that crowd out the beautiful native plants and the wildlife they support. \nWe will also be picking up litter if that’s more your speed! Together\, we can make a difference for all the people\, pets\, and wildlife that call our greenway home. \nAfter we have improved the park for the enjoyment of all\, we will spend some time enjoying it ourselves! \nWhen? Saturday 1/10 from 10am-12pm \nWhere? Malcolm King Park at the School Drive Entrance. (Find the exact location in Google Maps here.) \nImportant Info: Wear long pants and sturdy shoes. Be aware that the plants can be thorny. All equipment will be provided. \nWant SSL Hours? No Problem! Teenagers must wear the appropriate clothing\, bring water and a snack\, and be accompanied by an adult. \nPlease RSVP to Mary Hlavinka\, mjhlavinka@gmail.com\, so we will be sure to have enough equipment for everyone (and so we can contact you in case of cancellations for weather). Also contact Mary with questions about work days. \nThank you for helping to protect the intrinsic beauty of our watershed! \nUpcoming Dates: \n\nSaturday February 21 from 10am-12pm\nSunday March 8 from 10am-12pm\n\nWant to host events like this for another area of our trail?  Become a Section Steward\, a lead volunteer for your favorite part of the Muddy Branch. Email president@muddybranch.org for more information.
URL:https://onemontgomerygreen.org/index.php/calendarevent/weed-warriors-litter-pickup-2/
LOCATION:Malcolm King Park\, 1200 West Side Dr\, Gaithersburg\, MD\, 20878\, United States
CATEGORIES:Cleanup,Weed Warrior Workday,weeding
ATTACH;FMTTYPE=image/jpeg:https://onemontgomerygreen.org/wp-content/uploads/2020/02/cef5bab9-f6d5-47f1-8f7b-b25ce4b2883b.jpg
ORGANIZER;CN="Muddy Branch Alliance":MAILTO:muddybranchalliance@gmail.com
END:VEVENT
END:VCALENDAR